BEGIN:VCALENDAR
VERSION:2.0
PRODID:icalendar-ruby
CALSCALE:GREGORIAN
BEGIN:VEVENT
DTSTAMP:20260422T221319Z
UID:194360ab-ffd4-49a4-bb6f-dbf369120d14
DTSTART;VALUE=DATE:20201209
DESCRIPTION:Property ID# 496779\, Locatoin: Lodge Auction Rooms 935 Victori
 a Street\, Time: 12:30PM
SUMMARY:Auction for 
END:VEVENT
END:VCALENDAR
