BEGIN:VCALENDAR
VERSION:2.0
PRODID:icalendar-ruby
CALSCALE:GREGORIAN
BEGIN:VEVENT
DTSTAMP:20260422T221626Z
UID:530b4149-4e5c-4f97-b403-51bd9779212b
DTSTART;VALUE=DATE:20210303
DESCRIPTION:Property ID# 501674\, Locatoin: Lodge Auction Rooms 935 Victori
 a Street\, Time: 12:30PM
SUMMARY:Auction for 
END:VEVENT
END:VCALENDAR
