BEGIN:VCALENDAR
VERSION:2.0
PRODID:icalendar-ruby
CALSCALE:GREGORIAN
BEGIN:VEVENT
DTSTAMP:20260422T220916Z
UID:86ad07b4-3659-4b0a-94ca-8fd2bcc5f563
DTSTART;VALUE=DATE:20210224
DESCRIPTION:Property ID# 501675\, Locatoin: Lodge Auction Rooms\, 935 Victo
 ria Street\, Hamilton\, Time: 12:30PM
SUMMARY:Auction for 
END:VEVENT
END:VCALENDAR
