BEGIN:VCALENDAR
VERSION:2.0
PRODID:icalendar-ruby
CALSCALE:GREGORIAN
BEGIN:VEVENT
DTSTAMP:20260422T224316Z
UID:83d1cb02-24e2-4665-9429-b48a59c95270
DTSTART;VALUE=DATE:20210428
DESCRIPTION:Property ID# 506981\, Locatoin: Lodge Auction Rooms 935 Victori
 a Street\, Time: 12:30PM
SUMMARY:Auction for 
END:VEVENT
END:VCALENDAR
