BEGIN:VCALENDAR
VERSION:2.0
PRODID:icalendar-ruby
CALSCALE:GREGORIAN
BEGIN:VEVENT
DTSTAMP:20260422T221743Z
UID:2ea7fcb2-f923-451f-9be6-e473c16e8ae7
DTSTART;VALUE=DATE:20210519
DESCRIPTION:Property ID# 507311\, Locatoin: Lodge Auction Rooms 935 Victori
 a Street\, Time: 12:30PM
SUMMARY:Auction for 
END:VEVENT
END:VCALENDAR
