BEGIN:VCALENDAR
VERSION:2.0
PRODID:icalendar-ruby
CALSCALE:GREGORIAN
BEGIN:VEVENT
DTSTAMP:20260420T095426Z
UID:71d77c72-000e-4175-b940-510ddd8c7a26
DTSTART;VALUE=DATE:20210721
DESCRIPTION:Property ID# 513011\, Locatoin: Lodge Auction Rooms\, Time: 12:
 30PM
SUMMARY:Auction for 
END:VEVENT
END:VCALENDAR
