BEGIN:VCALENDAR
VERSION:2.0
PRODID:icalendar-ruby
CALSCALE:GREGORIAN
BEGIN:VEVENT
DTSTAMP:20260422T191917Z
UID:f9324d4e-60cf-4343-9512-a68406b8baea
DTSTART;VALUE=DATE:20211222
DESCRIPTION:Property ID# 523422\, Locatoin: Lodge Auction Rooms\, Time: 12:
 30PM
SUMMARY:Auction for 
END:VEVENT
END:VCALENDAR
