BEGIN:VCALENDAR
VERSION:2.0
PRODID:icalendar-ruby
CALSCALE:GREGORIAN
BEGIN:VEVENT
DTSTAMP:20260422T185417Z
UID:be4e2db2-4f2c-46d7-b4ac-e3152d37223e
DTSTART;VALUE=DATE:20221130
DESCRIPTION:Property ID# 545572\, Locatoin: Property Brokers\, 94 Duke Stre
 et\, Cambridge\, Time: 11:00AM
SUMMARY:Auction for 
END:VEVENT
END:VCALENDAR
